BEGIN:VCALENDAR
VERSION:2.0
PRODID:-//Simon Hudson - ECPv6.15.20//NONSGML v1.0//EN
CALSCALE:GREGORIAN
METHOD:PUBLISH
X-ORIGINAL-URL:https://simonhudson.com.au
X-WR-CALDESC:Events for Simon Hudson
REFRESH-INTERVAL;VALUE=DURATION:PT1H
X-Robots-Tag:noindex
X-PUBLISHED-TTL:PT1H
BEGIN:VTIMEZONE
TZID:Australia/Adelaide
BEGIN:STANDARD
TZOFFSETFROM:+1030
TZOFFSETTO:+0930
TZNAME:ACST
DTSTART:20250405T163000
END:STANDARD
BEGIN:DAYLIGHT
TZOFFSETFROM:+0930
TZOFFSETTO:+1030
TZNAME:ACDT
DTSTART:20251004T163000
END:DAYLIGHT
BEGIN:STANDARD
TZOFFSETFROM:+1030
TZOFFSETTO:+0930
TZNAME:ACST
DTSTART:20260404T163000
END:STANDARD
BEGIN:DAYLIGHT
TZOFFSETFROM:+0930
TZOFFSETTO:+1030
TZNAME:ACDT
DTSTART:20261003T163000
END:DAYLIGHT
BEGIN:STANDARD
TZOFFSETFROM:+1030
TZOFFSETTO:+0930
TZNAME:ACST
DTSTART:20270403T163000
END:STANDARD
BEGIN:DAYLIGHT
TZOFFSETFROM:+0930
TZOFFSETTO:+1030
TZNAME:ACDT
DTSTART:20271002T163000
END:DAYLIGHT
END:VTIMEZONE
BEGIN:VEVENT
DTSTART;TZID=Australia/Adelaide:20260411T200000
DTEND;TZID=Australia/Adelaide:20260411T220000
DTSTAMP:20260425T101624
CREATED:20250831T223119Z
LAST-MODIFIED:20260406T003743Z
UID:4926-1775937600-1775944800@simonhudson.com.au
SUMMARY:Live at The Wheatsheaf Hotel - band show with Courteney Hooper
DESCRIPTION:Hugely excited to be playing in front of a home-town crowd for this band show!! Look forward to seeing you all down there for a stellar night. \n8-8:45pm – Courteney Hooper with band \n9:15-10pm – Simon Hudson with band \nMore about Simon Hudson\n“Through his music\, this creative Australian mind ignites a fresh and rejuvenating roots formula\, tapping into the sounds and styles of Brazil\, West Africa\, India\, and many more.” – Aldora Britain Records \nSimon Hudson is a singer-songwriter whose highly original music weaves a captivating blend of world\, roots and folk\, with influences including Carlinhos Brown\, The Cat Empire\, Jose Gonzalez\, Neil Finn\, and Paul Simon. Based in Melbourne\, Australia\, he’s toured throughout Europe\, Latin America and Australia. \nHis latest single Magalenha launched globally (Oct 2024) on his label Songs & Whispers (Germany). Magalenha is a popular Brazilian dance-floor favourite\, written by Carlinhos Brown and first performed by Sergio Mendes. \nPrevious releases include album Aguas Profundas (Deep Waters) (2023)\, genre-hopping EP Islands (2020)\, crowd-funded album Earthman (Aug 2016)\, and debut EP Time And Space (2012)\, a remarkable showcase of skilled songwriting\, addictive roots rhythms and honest lyricism. His 7 international tours from 2014-2025 include Japan\, Europe\, Cuba & Brazil. \n“Hudson’s songwriter talent is endless and his songs are poppy\, catchy\, melodic and straight to the point!” – Keys and Chords\, Netherlands \nMore about Courteney Hooper\nCourteney Hooper is a multi-award winning vocalist\, multi-instrumentalist\, composer and improviser based in Adelaide. Raised on the regional Ngadjuri lands of the Clare Valley\, she has alchemised her early folk and country lineage with classical harmony and contemporary jazz textures\, shaping an alternative sound that is playfully capricious\, yet deeply earnest. \n  \n  \n  \n  \n  \n\n 
URL:https://simonhudson.com.au/shows/live-at-the-wheatsheaf-hotel-band-show-with-courteney-hooper/
LOCATION:The Wheatsheaf Hotel\, 39 George St\, Thebarton\, SA\, 5031\, Australia
CATEGORIES:Band show,On tour,With support
ATTACH;FMTTYPE=image/jpeg:https://simonhudson.com.au/wp-content/uploads/2024/08/Web-05-PinkShirtDreaming_by_Jose_Pincheira-scaled.jpg
END:VEVENT
END:VCALENDAR