BEGIN:VCALENDAR
VERSION:2.0
PRODID:-//Simon Hudson - ECPv6.15.20//NONSGML v1.0//EN
CALSCALE:GREGORIAN
METHOD:PUBLISH
X-ORIGINAL-URL:https://simonhudson.com.au
X-WR-CALDESC:Events for Simon Hudson
REFRESH-INTERVAL;VALUE=DURATION:PT1H
X-Robots-Tag:noindex
X-PUBLISHED-TTL:PT1H
BEGIN:VTIMEZONE
TZID:Australia/Melbourne
BEGIN:STANDARD
TZOFFSETFROM:+1100
TZOFFSETTO:+1000
TZNAME:AEST
DTSTART:20210403T160000
END:STANDARD
BEGIN:DAYLIGHT
TZOFFSETFROM:+1000
TZOFFSETTO:+1100
TZNAME:AEDT
DTSTART:20211002T160000
END:DAYLIGHT
BEGIN:STANDARD
TZOFFSETFROM:+1100
TZOFFSETTO:+1000
TZNAME:AEST
DTSTART:20220402T160000
END:STANDARD
BEGIN:DAYLIGHT
TZOFFSETFROM:+1000
TZOFFSETTO:+1100
TZNAME:AEDT
DTSTART:20221001T160000
END:DAYLIGHT
BEGIN:STANDARD
TZOFFSETFROM:+1100
TZOFFSETTO:+1000
TZNAME:AEST
DTSTART:20230401T160000
END:STANDARD
BEGIN:DAYLIGHT
TZOFFSETFROM:+1000
TZOFFSETTO:+1100
TZNAME:AEDT
DTSTART:20230930T160000
END:DAYLIGHT
BEGIN:STANDARD
TZOFFSETFROM:+1100
TZOFFSETTO:+1000
TZNAME:AEST
DTSTART:20240406T160000
END:STANDARD
BEGIN:DAYLIGHT
TZOFFSETFROM:+1000
TZOFFSETTO:+1100
TZNAME:AEDT
DTSTART:20241005T160000
END:DAYLIGHT
END:VTIMEZONE
BEGIN:VTIMEZONE
TZID:Europe/Berlin
BEGIN:DAYLIGHT
TZOFFSETFROM:+0100
TZOFFSETTO:+0200
TZNAME:CEST
DTSTART:20160327T010000
END:DAYLIGHT
BEGIN:STANDARD
TZOFFSETFROM:+0200
TZOFFSETTO:+0100
TZNAME:CET
DTSTART:20161030T010000
END:STANDARD
BEGIN:DAYLIGHT
TZOFFSETFROM:+0100
TZOFFSETTO:+0200
TZNAME:CEST
DTSTART:20170326T010000
END:DAYLIGHT
BEGIN:STANDARD
TZOFFSETFROM:+0200
TZOFFSETTO:+0100
TZNAME:CET
DTSTART:20171029T010000
END:STANDARD
BEGIN:DAYLIGHT
TZOFFSETFROM:+0100
TZOFFSETTO:+0200
TZNAME:CEST
DTSTART:20180325T010000
END:DAYLIGHT
BEGIN:STANDARD
TZOFFSETFROM:+0200
TZOFFSETTO:+0100
TZNAME:CET
DTSTART:20181028T010000
END:STANDARD
BEGIN:DAYLIGHT
TZOFFSETFROM:+0100
TZOFFSETTO:+0200
TZNAME:CEST
DTSTART:20190331T010000
END:DAYLIGHT
BEGIN:STANDARD
TZOFFSETFROM:+0200
TZOFFSETTO:+0100
TZNAME:CET
DTSTART:20191027T010000
END:STANDARD
BEGIN:DAYLIGHT
TZOFFSETFROM:+0100
TZOFFSETTO:+0200
TZNAME:CEST
DTSTART:20200329T010000
END:DAYLIGHT
BEGIN:STANDARD
TZOFFSETFROM:+0200
TZOFFSETTO:+0100
TZNAME:CET
DTSTART:20201025T010000
END:STANDARD
BEGIN:DAYLIGHT
TZOFFSETFROM:+0100
TZOFFSETTO:+0200
TZNAME:CEST
DTSTART:20210328T010000
END:DAYLIGHT
BEGIN:STANDARD
TZOFFSETFROM:+0200
TZOFFSETTO:+0100
TZNAME:CET
DTSTART:20211031T010000
END:STANDARD
BEGIN:DAYLIGHT
TZOFFSETFROM:+0100
TZOFFSETTO:+0200
TZNAME:CEST
DTSTART:20220327T010000
END:DAYLIGHT
BEGIN:STANDARD
TZOFFSETFROM:+0200
TZOFFSETTO:+0100
TZNAME:CET
DTSTART:20221030T010000
END:STANDARD
BEGIN:DAYLIGHT
TZOFFSETFROM:+0100
TZOFFSETTO:+0200
TZNAME:CEST
DTSTART:20230326T010000
END:DAYLIGHT
BEGIN:STANDARD
TZOFFSETFROM:+0200
TZOFFSETTO:+0100
TZNAME:CET
DTSTART:20231029T010000
END:STANDARD
BEGIN:DAYLIGHT
TZOFFSETFROM:+0100
TZOFFSETTO:+0200
TZNAME:CEST
DTSTART:20240331T010000
END:DAYLIGHT
BEGIN:STANDARD
TZOFFSETFROM:+0200
TZOFFSETTO:+0100
TZNAME:CET
DTSTART:20241027T010000
END:STANDARD
END:VTIMEZONE
BEGIN:VTIMEZONE
TZID:Europe/Brussels
BEGIN:DAYLIGHT
TZOFFSETFROM:+0100
TZOFFSETTO:+0200
TZNAME:CEST
DTSTART:20160327T010000
END:DAYLIGHT
BEGIN:STANDARD
TZOFFSETFROM:+0200
TZOFFSETTO:+0100
TZNAME:CET
DTSTART:20161030T010000
END:STANDARD
BEGIN:DAYLIGHT
TZOFFSETFROM:+0100
TZOFFSETTO:+0200
TZNAME:CEST
DTSTART:20170326T010000
END:DAYLIGHT
BEGIN:STANDARD
TZOFFSETFROM:+0200
TZOFFSETTO:+0100
TZNAME:CET
DTSTART:20171029T010000
END:STANDARD
BEGIN:DAYLIGHT
TZOFFSETFROM:+0100
TZOFFSETTO:+0200
TZNAME:CEST
DTSTART:20180325T010000
END:DAYLIGHT
BEGIN:STANDARD
TZOFFSETFROM:+0200
TZOFFSETTO:+0100
TZNAME:CET
DTSTART:20181028T010000
END:STANDARD
END:VTIMEZONE
BEGIN:VEVENT
DTSTART;TZID=Australia/Melbourne:20231221T200000
DTEND;TZID=Australia/Melbourne:20231221T210000
DTSTAMP:20260425T211213
CREATED:20231205T220751Z
LAST-MODIFIED:20231205T220751Z
UID:4031-1703188800-1703192400@simonhudson.com.au
SUMMARY:Live at Penny Black - solo show
DESCRIPTION:“A very tender and sincerely crafted folk performance with some heartfelt and well written lyrics”\n– We All Want Someone To Shout For for Looking For A Map \n“The bottom line is globetrotter Hudson’s soul\, folk\, dance-pop\, funk and latin standards as skilful and casual as ever…”\n– Diabolo Mox online magazine\, Germany \nSimon Hudson is a singer-songwriter whose highly original music weaves a captivating blend of world\, roots and folk\, with influences including Carlinhos Brown\, The Cat Empire\, Jose Gonzalez\, Neil Finn\, and Paul Simon. Based in Melbourne\, Australia\, he’s toured throughout Europe\, Latin America and Australia. \nHis new album Aguas Profundas was launched globally (Jun 2023) on label Songs & Whispers (Germany)\, distributed by Broken Silence (Germany) and published by Sentric Music (UK). The first single Looking For A Map with film clip deals with feeling lost during the coronavirus pandemic\, and looking for a map to navigate the way out. The second single One More Chance says – when everything seems lost\, why not ask the world for one more chance? \nPrevious releases include the genre-hopping EP Islands (2020)\, crowd-funded album Earthman (Aug 2016)\, and debut EP Time And Space (2012)\, a remarkable showcase of skilled songwriting\, addictive roots rhythms and honest lyricism. His five international tours from 2014-2019\, interrupted by the global coronavirus pandemic\, have included European festivals\, German national radio\, Cuban national TV\, and pan-American radio. \n“A crisply delivered lead vocal sits with ease amidst rolling guitar waves\, a dynamic drum kit backbone pulse and a steady bass low end… Soaring melody lines. Immersive and imaginative lyricism”\n– Music On The Moon for Looking For A Map
URL:https://simonhudson.com.au/shows/live-at-penny-black-solo-show-2/
LOCATION:Penny Black\, 420 Sydney Rd\, Brunswick\, Vic\, 3056\, Australia
CATEGORIES:Solo show
END:VEVENT
BEGIN:VEVENT
DTSTART;TZID=Australia/Melbourne:20231202T120000
DTEND;TZID=Australia/Melbourne:20231202T170000
DTSTAMP:20260425T211213
CREATED:20231010T193335Z
LAST-MODIFIED:20231119T195118Z
UID:3971-1701518400-1701536400@simonhudson.com.au
SUMMARY:Live at Seppelt Wines - solo show
DESCRIPTION:“The bottom line is globetrotter Hudson’s soul\, folk\, dance-pop\, funk and latin standards as skilful and casual as ever…” \n– Diabolo Mox online magazine\, Germany \nSimon Hudson is a singer-songwriter whose highly original music weaves a captivating blend of world\, roots and folk\, with influences including Carlinhos Brown\, The Cat Empire\, Jose Gonzalez\, Neil Finn\, and Paul Simon. Based in Melbourne\, Australia\, he’s toured throughout Europe\, Latin America and Australia. \nHis new album Aguas Profundas was launched globally (Jun 2023) on label Songs & Whispers (Germany)\, distributed by Broken Silence (Germany) and published by Sentric Music (UK). The first single Looking For A Map with film clip deals with feeling lost during the coronavirus pandemic\, and looking for a map to navigate the way out. The second single One More Chance says – when everything seems lost\, why not ask the world for one more chance? \nPrevious releases include the genre-hopping EP Islands (2020)\, crowd-funded album Earthman (Aug 2016)\, and debut EP Time And Space (2012)\, a remarkable showcase of skilled songwriting\, addictive roots rhythms and honest lyricism. His five international tours from 2014-2019\, interrupted by the global coronavirus pandemic\, have included European festivals\, German national radio\, Cuban national TV\, and pan-American radio.
URL:https://simonhudson.com.au/shows/live-at-seppelt-wines-solo-show/
LOCATION:Seppelt Wines\, 36 Cemetery Road\, Great Western\, Vic\, 3374\, Australia
CATEGORIES:Solo show
END:VEVENT
BEGIN:VEVENT
DTSTART;TZID=Australia/Melbourne:20231123T180000
DTEND;TZID=Australia/Melbourne:20231123T200000
DTSTAMP:20260425T211213
CREATED:20230914T093323Z
LAST-MODIFIED:20231119T195146Z
UID:3965-1700762400-1700769600@simonhudson.com.au
SUMMARY:Live at Edinburgh Castle - solo show
DESCRIPTION:“The bottom line is globetrotter Hudson’s soul\, folk\, dance-pop\, funk and latin standards as skilful and casual as ever…” \n– Diabolo Mox online magazine\, Germany \nSimon Hudson is a singer-songwriter whose highly original music weaves a captivating blend of world\, roots and folk\, with influences including Carlinhos Brown\, The Cat Empire\, Jose Gonzalez\, Neil Finn\, and Paul Simon. Based in Melbourne\, Australia\, he’s toured throughout Europe\, Latin America and Australia. \nHis new album Aguas Profundas was launched globally (Jun 2023) on label Songs & Whispers (Germany)\, distributed by Broken Silence (Germany) and published by Sentric Music (UK). The first single Looking For A Map with film clip deals with feeling lost during the coronavirus pandemic\, and looking for a map to navigate the way out. The second single One More Chance says – when everything seems lost\, why not ask the world for one more chance? \nPrevious releases include the genre-hopping EP Islands (2020)\, crowd-funded album Earthman (Aug 2016)\, and debut EP Time And Space (2012)\, a remarkable showcase of skilled songwriting\, addictive roots rhythms and honest lyricism. His five international tours from 2014-2019\, interrupted by the global coronavirus pandemic\, have included European festivals\, German national radio\, Cuban national TV\, and pan-American radio.
URL:https://simonhudson.com.au/shows/live-at-edinburgh-castle-solo-show/
LOCATION:Edinburgh Castle\, 681 Sydney Rd\, Brunswick\, Vic\, 3056\, Australia
CATEGORIES:Solo show
END:VEVENT
BEGIN:VEVENT
DTSTART;TZID=Australia/Melbourne:20231019T200000
DTEND;TZID=Australia/Melbourne:20231019T204500
DTSTAMP:20260425T211213
CREATED:20230914T093058Z
LAST-MODIFIED:20231017T101054Z
UID:3960-1697745600-1697748300@simonhudson.com.au
SUMMARY:CANCELLED - Live at Penny Black - solo show
DESCRIPTION:Sorry to say my appearance in this show has been cancelled due to Covid – someone else will be playing it for me. Still\, come on down and support live music\, hope you all have a grate night and see you at the next one! \n—– \nI’ll be playing this solo show with some loop pedal surprises as part of an Amber Mic Productions showcase. \nLineup:\n7:00pm-7::45pm Peter Vadiveloo\n8:00pm-8:45pm Simon Hudson\n9:00pm-9:45pm Oscar LaDell
URL:https://simonhudson.com.au/shows/live-at-penny-black-solo-show/
LOCATION:Penny Black\, 420 Sydney Rd\, Brunswick\, Vic\, 3056\, Australia
CATEGORIES:Solo show
END:VEVENT
BEGIN:VEVENT
DTSTART;TZID=Australia/Melbourne:20231007T200000
DTEND;TZID=Australia/Melbourne:20231007T220000
DTSTAMP:20260425T211213
CREATED:20230806T223425Z
LAST-MODIFIED:20230821T022924Z
UID:3936-1696708800-1696716000@simonhudson.com.au
SUMMARY:Live at Thornbury Local - solo show
DESCRIPTION:Super jazzed to return to my home away from home\, the Thornbury Local for another great night of good vibes\, great people and sweet tunes. If you haven’t been down yet\, check it out because it’s such an awesome place to come and meet your mates and just chill. It has a small beer garden out the back\, food available and an awesome selection of delicious beers on tap. Look forward to playing songs from my new album Aguas Profundas (“Deep Waters”) as well as previous releases and some choice covers\, done my style. See you there. Two sets from 8-10pm
URL:https://simonhudson.com.au/shows/live-at-thornbury-local-solo-show/
LOCATION:The Thornbury Local\, 635 High St\, Thornbury\, Vic\, 3071\, Australia
CATEGORIES:Solo show
END:VEVENT
BEGIN:VEVENT
DTSTART;TZID=Australia/Melbourne:20230917T140000
DTEND;TZID=Australia/Melbourne:20230917T170000
DTSTAMP:20260425T211213
CREATED:20230702T222324Z
LAST-MODIFIED:20230702T222324Z
UID:3919-1694959200-1694970000@simonhudson.com.au
SUMMARY:Live at Peninsula Hot Springs - solo show
DESCRIPTION:
URL:https://simonhudson.com.au/shows/live-at-peninsula-hot-springs-solo-show/
LOCATION:Peninsula Hot Springs\, 140 Springs Lane\, Fingal\, Vic\, 3939\, Australia
CATEGORIES:Outdoor show,Solo show
END:VEVENT
BEGIN:VEVENT
DTSTART;TZID=Australia/Melbourne:20230914T211500
DTEND;TZID=Australia/Melbourne:20230914T220000
DTSTAMP:20260425T211213
CREATED:20230821T022139Z
LAST-MODIFIED:20230907T104515Z
UID:3943-1694726100-1694728800@simonhudson.com.au
SUMMARY:Live at Immigration Museum - Neighbourhood Circle Nights - solo show
DESCRIPTION:Very excited to announce I’ll be playing a second show at the Immigration Museum! It’s an honour to play at such a lovely space\, I’ve been impressed with the exhibitions there\, fascinating insights into the amazing waves of people who have come to Melbourne and Australia over the years that make this vibrant and diverse place that it is! On Thursday nights throughout Sept they are hosting Neighbourhood Circle Nights\, including pop-up markets\, delicious food\, live entertainment\, cultural activations\, walking tours\, local hero stories\, engaging speakers\, art workshops\, and film nights. Hope to see you down there!
URL:https://simonhudson.com.au/shows/live-at-immigration-museum-neighbourhood-circle-nights-solo-show-2/
LOCATION:Immigration Museum\, 400 Flinders Street\, Melbourne\, Vic\, 3000\, Australia
CATEGORIES:Outdoor show,Solo show
END:VEVENT
BEGIN:VEVENT
DTSTART;TZID=Australia/Melbourne:20230907T184500
DTEND;TZID=Australia/Melbourne:20230907T193000
DTSTAMP:20260425T211213
CREATED:20240309T000531Z
LAST-MODIFIED:20240309T000531Z
UID:3954-1694112300-1694115000@simonhudson.com.au
SUMMARY:Live at Immigration Museum - Neighbourhood Circle Nights - solo show
DESCRIPTION:Very excited to announce I’ll be playing a show at the Immigration Museum! It’s an honour to play at such a lovely space\, when visiting I was impressed with the exhibitions on display\, full of fascinating insights into the amazing waves of people who have come to Melbourne and Australia over the years that make this vibrant and diverse place that it is! On Thursday nights throughout Sept they are hosting Neighbourhood Circle Nights\, including pop-up markets\, delicious food\, live entertainment\, cultural activations\, walking tours\, local hero stories\, engaging speakers\, art workshops\, and film nights. I’ll be playing on 7th Sept from 6:45 – 7:30pm\, hope to see you down there!
URL:https://simonhudson.com.au/shows/live-at-immigration-museum-neighbourhood-circle-nights-solo-show/
LOCATION:Immigration Museum\, 400 Flinders Street\, Melbourne\, Vic\, 3000\, Australia
CATEGORIES:Solo show
END:VEVENT
BEGIN:VEVENT
DTSTART;TZID=Australia/Melbourne:20230810T180000
DTEND;TZID=Australia/Melbourne:20230810T200000
DTSTAMP:20260425T211213
CREATED:20230618T060522Z
LAST-MODIFIED:20230809T063031Z
UID:3898-1691690400-1691697600@simonhudson.com.au
SUMMARY:CANCELLED - Live at Edinburgh Castle - solo show
DESCRIPTION:I’m very sorry to say that for health reasons I’ve had to cancel this show this Thu. I’ve come down with the worst flu I’ve had in quite some time. Looking forward to getting better and playing for you all again very soon! \n—- \nFirst show after returning from tour in Germany\, this should be a fun one. Returning to the front bar to play my solo show\, expect lots of world music grooves and loop pedal extravaganzas.
URL:https://simonhudson.com.au/shows/edinburgh-castle-2/
LOCATION:Edinburgh Castle\, 681 Sydney Rd\, Brunswick\, Vic\, 3056\, Australia
CATEGORIES:Solo show
END:VEVENT
BEGIN:VEVENT
DTSTART;TZID=Europe/Berlin:20230722T190000
DTEND;TZID=Europe/Berlin:20230722T210000
DTSTAMP:20260425T211213
CREATED:20230611T032349Z
LAST-MODIFIED:20230618T060709Z
UID:3849-1690052400-1690059600@simonhudson.com.au
SUMMARY:European tour - Friesland Camping
DESCRIPTION:
URL:https://simonhudson.com.au/shows/european-tour-friesland-camping/
LOCATION:Friesland Camping\, Am Schwimmbad 2\, Schortens\, 26419\, Germany
CATEGORIES:European tour,Solo show
END:VEVENT
BEGIN:VEVENT
DTSTART;TZID=Europe/Berlin:20230718T180000
DTEND;TZID=Europe/Berlin:20230718T200000
DTSTAMP:20260425T211213
CREATED:20230701T061850Z
LAST-MODIFIED:20230701T061850Z
UID:3914-1689703200-1689710400@simonhudson.com.au
SUMMARY:European tour – WeserPerle - solo show
DESCRIPTION:
URL:https://simonhudson.com.au/shows/european-tour-weserperle-solo-show-2/
LOCATION:WeserPerle\, Ferry road\, Dedesdorf\, Loxstedt\, 27612\, Germany
CATEGORIES:Outdoor show,Solo show
END:VEVENT
BEGIN:VEVENT
DTSTART;TZID=Europe/Berlin:20230717T193000
DTEND;TZID=Europe/Berlin:20230717T213000
DTSTAMP:20260425T211213
CREATED:20230709T153429Z
LAST-MODIFIED:20230709T153544Z
UID:3923-1689622200-1689629400@simonhudson.com.au
SUMMARY:European tour – The Shakespeare Pub - solo show
DESCRIPTION:
URL:https://simonhudson.com.au/shows/european-tour-the-shakespeare-pub-solo-show/
LOCATION:The Shakespeare Pub\, Hauptstraße 38\, Herdecke\, 58313\, Germany
CATEGORIES:European tour,Outdoor show,Solo show
END:VEVENT
BEGIN:VEVENT
DTSTART;TZID=Australia/Melbourne:20230521T150000
DTEND;TZID=Australia/Melbourne:20230521T170000
DTSTAMP:20260425T211213
CREATED:20230426T202809Z
LAST-MODIFIED:20230426T202937Z
UID:3746-1684681200-1684688400@simonhudson.com.au
SUMMARY:Single launch show!
DESCRIPTION:A tiny patch of sky. That’s all we can see from our little apartment. During the depths of the pandemic lockdowns\, when we started feeling lost\, we’d focus on this little patch of sky and the hope it gave us. I started writing this song\, Looking For A Map when we were all looking for something that could help us get through those pandemic years of 2020-2022. Little by little\, things have improved and I think we all stand in a better place today. I recorded this song at the start of this year with my band and shot the clip in March with the help of my wife. Now finally the song is released on 5th May\, hope you can join me for the launch party! 2 sets from 3-5pm
URL:https://simonhudson.com.au/shows/single-launch-show/
LOCATION:Retreat Hotel front bar\, 280 Sydney Rd\, Brunswick\, Brunswick\, 3056\, Australia
CATEGORIES:Solo show
ATTACH;FMTTYPE=image/png:https://simonhudson.com.au/wp-content/uploads/2023/04/Looking-For-A-Map-thumbnail.png
END:VEVENT
BEGIN:VEVENT
DTSTART;TZID=Australia/Melbourne:20230222T200000
DTEND;TZID=Australia/Melbourne:20230222T210000
DTSTAMP:20260425T211213
CREATED:20230125T091442Z
LAST-MODIFIED:20230125T091539Z
UID:3670-1677096000-1677099600@simonhudson.com.au
SUMMARY:Live solo show at Peacock Hotel
DESCRIPTION:Great to be back at the Peacock for the first time this year. Always fun to play at the Peacock in the sweet beer garden\, with chilled vibes and delicious food. See you there! \n6:00pm-6:45pm Mac Mittens\n7:00pm-7:45pm Loui Froia\n8:00pm-8:45pm Simon Hudson
URL:https://simonhudson.com.au/shows/live-solo-show-at-peacock-hotel/
LOCATION:The Peacock Hotel\, 210 High St\, Northcote\, Northcote\, 3070\, Australia
CATEGORIES:Outdoor show,Solo show
ATTACH;FMTTYPE=image/jpeg:https://simonhudson.com.au/wp-content/uploads/2020/04/Web-10-GuitarSailDetermined_by_Jose_Pincheira.jpg
END:VEVENT
BEGIN:VEVENT
DTSTART;TZID=Australia/Melbourne:20230217T200000
DTEND;TZID=Australia/Melbourne:20230217T220000
DTSTAMP:20260425T211213
CREATED:20230114T062630Z
LAST-MODIFIED:20230125T092144Z
UID:3649-1676664000-1676671200@simonhudson.com.au
SUMMARY:Live at Thornbury Local
DESCRIPTION:So great to be back at the ‘Local. Look forward to providing you all with songs to soothe your souls while you relax and enjoy the awesome range of drinks as well as food available there!
URL:https://simonhudson.com.au/shows/live-at-thornbury-local/
LOCATION:The Thornbury Local\, 635 High St\, Thornbury\, Vic\, 3071\, Australia
CATEGORIES:Solo show
ATTACH;FMTTYPE=image/jpeg:https://simonhudson.com.au/wp-content/uploads/2023/01/DC75C424-6892-4A67-AA9E-A5BCBDC44C96.jpeg
END:VEVENT
BEGIN:VEVENT
DTSTART;TZID=Australia/Melbourne:20230101T140000
DTEND;TZID=Australia/Melbourne:20230101T170000
DTSTAMP:20260425T211213
CREATED:20221210T053140Z
LAST-MODIFIED:20221225T195924Z
UID:3617-1672581600-1672592400@simonhudson.com.au
SUMMARY:Live at Peninsula Hot Springs
DESCRIPTION:So glad to be welcoming in the New Year by playing down at the Springs! What better way to unwind and contemplate the upcoming year than by soaking yourself and delicious pools\, enjoying the peace and quiet\, and eating good food. See you there!\n\n3 sets in the cafe\n2-5pm
URL:https://simonhudson.com.au/shows/live-at-peninsula-hot-springs/
LOCATION:Peninsula Hot Springs\, 140 Springs Lane\, Fingal\, Vic\, 3939\, Australia
CATEGORIES:Solo show
ATTACH;FMTTYPE=image/jpeg:https://simonhudson.com.au/wp-content/uploads/2020/04/Web-05-PinkShirtDreaming_by_Jose_Pincheira-3.jpg
END:VEVENT
BEGIN:VEVENT
DTSTART;TZID=Australia/Melbourne:20221223T180000
DTEND;TZID=Australia/Melbourne:20221223T200000
DTSTAMP:20260425T211213
CREATED:20221210T052347Z
LAST-MODIFIED:20221210T052648Z
UID:3613-1671818400-1671825600@simonhudson.com.au
SUMMARY:Live at Mitre Tavern
DESCRIPTION:Excited to be playing a December residency outdoors at Mitre Tavern! As the weather warms up the front courtyard of this fascinating old pub will be an awesome place to unwind with a beer and a mate. Dates are:\nThu 8th Dec\nThu 15th Dec\nThu 22nd Dec\nFri 23rd Dec \n6-8pm each day. \nThe pub is one of our oldest\, dating back to 1868 and is a Melbourne institution.
URL:https://simonhudson.com.au/shows/live-at-mitre-tavern-2-2/
LOCATION:Mitre Tavern\, 5 Bank Place\, Melbourne\, Vic\, 3000\, Australia
CATEGORIES:Solo show
ATTACH;FMTTYPE=image/jpeg:https://simonhudson.com.au/wp-content/uploads/2022/12/70DC4A84-8A60-4B32-BEBE-CBC02F540424.jpeg
END:VEVENT
BEGIN:VEVENT
DTSTART;TZID=Australia/Melbourne:20221222T180000
DTEND;TZID=Australia/Melbourne:20221222T200000
DTSTAMP:20260425T211213
CREATED:20221210T052054Z
LAST-MODIFIED:20221211T083407Z
UID:3610-1671732000-1671739200@simonhudson.com.au
SUMMARY:Live at Mitre Tavern
DESCRIPTION:Excited to be playing a December residency outdoors at Mitre Tavern! As the weather warms up the front courtyard of this fascinating old pub will be an awesome place to unwind with a beer and a mate. Dates are:\nThu 8th Dec\nThu 15th Dec\nThu 22nd Dec\nFri 23rd Dec \n6-8pm each day. \nThe pub is one of our oldest\, dating back to 1868 and is a Melbourne institution.
URL:https://simonhudson.com.au/shows/live-at-mitre-tavern-2/
LOCATION:Mitre Tavern\, 5 Bank Place\, Melbourne\, Vic\, 3000\, Australia
CATEGORIES:Solo show
ATTACH;FMTTYPE=image/jpeg:https://simonhudson.com.au/wp-content/uploads/2022/12/70DC4A84-8A60-4B32-BEBE-CBC02F540424.jpeg
END:VEVENT
BEGIN:VEVENT
DTSTART;TZID=Australia/Melbourne:20221215T180000
DTEND;TZID=Australia/Melbourne:20221215T200000
DTSTAMP:20260425T211213
CREATED:20221210T044113Z
LAST-MODIFIED:20221211T083417Z
UID:3598-1671127200-1671134400@simonhudson.com.au
SUMMARY:Live at Mitre Tavern
DESCRIPTION:Excited to be playing a December residency outdoors at Mitre Tavern! As the weather warms up the front courtyard of this fascinating old pub will be an awesome place to unwind with a beer and a mate. Dates are:\nThu 8th Dec\nThu 15th Dec\nThu 22nd Dec\nFri 23rd Dec \n6-8pm each day. \nThe pub is one of our oldest\, dating back to 1868 and is a Melbourne institution.
URL:https://simonhudson.com.au/shows/live-at-mitre-tavern/
LOCATION:Mitre Tavern\, 5 Bank Place\, Melbourne\, Vic\, 3000\, Australia
CATEGORIES:Solo show
ATTACH;FMTTYPE=image/jpeg:https://simonhudson.com.au/wp-content/uploads/2022/12/70DC4A84-8A60-4B32-BEBE-CBC02F540424.jpeg
END:VEVENT
BEGIN:VEVENT
DTSTART;TZID=Europe/Brussels:20170713T143000
DTEND;TZID=Europe/Brussels:20170713T150000
DTSTAMP:20260425T211213
CREATED:20170625T114433Z
LAST-MODIFIED:20170626T003452Z
UID:1984-1499956200-1499958000@simonhudson.com.au
SUMMARY:"De Muziekdoos" on Radio Central
DESCRIPTION:
URL:https://simonhudson.com.au/shows/de-muziekdoos-radio-central/
LOCATION:“De Muziekdoos” on Radio Central\, Ernest Van Dyck Kaai 21\, Antwerp\, 2000\, Belgium
CATEGORIES:Live-to air radio show,Solo show
ATTACH;FMTTYPE=image/jpeg:https://simonhudson.com.au/wp-content/uploads/2017/06/Img-cropped.jpg
END:VEVENT
BEGIN:VEVENT
DTSTART;TZID=Europe/Berlin:20170710T170000
DTEND;TZID=Europe/Berlin:20170710T190000
DTSTAMP:20260425T211213
CREATED:20170624T154049Z
LAST-MODIFIED:20170626T003432Z
UID:1971-1499706000-1499713200@simonhudson.com.au
SUMMARY:25Music - in-store show
DESCRIPTION:
URL:https://simonhudson.com.au/shows/25-music-in-store-show/
LOCATION:25Music\, Lister Meile 25\, Hannover\, 30161\, Germany
CATEGORIES:In-store show,Solo show
ATTACH;FMTTYPE=image/jpeg:https://simonhudson.com.au/wp-content/uploads/2017/06/1_20150319_25MusicAnbau.jpg
END:VEVENT
BEGIN:VEVENT
DTSTART;TZID=Europe/Berlin:20170705T200000
DTEND;TZID=Europe/Berlin:20170705T220000
DTSTAMP:20260425T211213
CREATED:20170613T131725Z
LAST-MODIFIED:20170626T003351Z
UID:1942-1499284800-1499292000@simonhudson.com.au
SUMMARY:Lichtung - Acoustic Show
DESCRIPTION:
URL:https://simonhudson.com.au/shows/lichtung-acoustic-show/
LOCATION:Lichtung\, Ubierring 13\, Köln\, 50678\, Germany
CATEGORIES:Solo show
ATTACH;FMTTYPE=image/gif:https://simonhudson.com.au/wp-content/uploads/2017/06/logo.gif
END:VEVENT
END:VCALENDAR