BEGIN:VCALENDAR
VERSION:2.0
PRODID:-//Simon Hudson - ECPv6.15.20//NONSGML v1.0//EN
CALSCALE:GREGORIAN
METHOD:PUBLISH
X-ORIGINAL-URL:https://simonhudson.com.au
X-WR-CALDESC:Events for Simon Hudson
REFRESH-INTERVAL;VALUE=DURATION:PT1H
X-Robots-Tag:noindex
X-PUBLISHED-TTL:PT1H
BEGIN:VTIMEZONE
TZID:Australia/Melbourne
BEGIN:STANDARD
TZOFFSETFROM:+1100
TZOFFSETTO:+1000
TZNAME:AEST
DTSTART:20240406T160000
END:STANDARD
BEGIN:DAYLIGHT
TZOFFSETFROM:+1000
TZOFFSETTO:+1100
TZNAME:AEDT
DTSTART:20241005T160000
END:DAYLIGHT
BEGIN:STANDARD
TZOFFSETFROM:+1100
TZOFFSETTO:+1000
TZNAME:AEST
DTSTART:20250405T160000
END:STANDARD
BEGIN:DAYLIGHT
TZOFFSETFROM:+1000
TZOFFSETTO:+1100
TZNAME:AEDT
DTSTART:20251004T160000
END:DAYLIGHT
BEGIN:STANDARD
TZOFFSETFROM:+1100
TZOFFSETTO:+1000
TZNAME:AEST
DTSTART:20260404T160000
END:STANDARD
BEGIN:DAYLIGHT
TZOFFSETFROM:+1000
TZOFFSETTO:+1100
TZNAME:AEDT
DTSTART:20261003T160000
END:DAYLIGHT
END:VTIMEZONE
BEGIN:VEVENT
DTSTART;TZID=Australia/Melbourne:20251206T120000
DTEND;TZID=Australia/Melbourne:20251206T130000
DTSTAMP:20260425T203946
CREATED:20250831T221532Z
LAST-MODIFIED:20251126T052827Z
UID:4923-1765022400-1765026000@simonhudson.com.au
SUMMARY:Live at Asia Oasis Street Food Festival by the Yarra - band show
DESCRIPTION:This is a fun day out\, family friendly in lovely Alexandria gardens by the Yarra with lots of interesting food trucks serving exotic Asian food! \nPlaying time: 12-12:40pm \nMore about Simon Hudson\n“Through his music\, this creative Australian mind ignites a fresh and rejuvenating roots formula\, tapping into the sounds and styles of Brazil\, West Africa\, India\, and many more.” – Aldora Britain Records \nSimon Hudson is a singer-songwriter whose highly original music weaves a captivating blend of world\, roots and folk\, with influences including Carlinhos Brown\, The Cat Empire\, Jose Gonzalez\, Neil Finn\, and Paul Simon. Based in Melbourne\, Australia\, he’s toured throughout Europe\, Latin America and Australia. \nHis new single This Race launches globally (Jun 2024) on label Songs & Whispers (Germany)\, distributed by Broken Silence (Germany) and published by Sentric Music (UK). This Race suggest we are all caught up in a race – that we don’t always know that we are in. The race for fame and fortune\, to impress those around us. We may not be conscious of it\, but it drives our decisions. Stepping outside allows us focus on more important things. \nPrevious releases include album Aguas Profundas (Deep Waters) (2023)\, genre-hopping EP Islands (2020)\, crowd-funded album Earthman (Aug 2016)\, and debut EP Time And Space (2012)\, a remarkable showcase of skilled songwriting\, addictive roots rhythms and honest lyricism. His five international tours from 2014-2023 include Europe\, Cuba & Brazil. \n“Hudson’s songwriter talent is endless and his songs are poppy\, catchy\, melodic and straight to the point!” – Keys and Chords\, Netherlands
URL:https://simonhudson.com.au/shows/live-at-asia-oasis-street-food-festival-by-the-yarra/
LOCATION:Asia Oasis Street Food Festival\, Australia
CATEGORIES:Band show,Outdoor show
END:VEVENT
END:VCALENDAR