BEGIN:VCALENDAR
VERSION:2.0
PRODID:-//Simon Hudson - ECPv6.15.20//NONSGML v1.0//EN
CALSCALE:GREGORIAN
METHOD:PUBLISH
X-ORIGINAL-URL:https://simonhudson.com.au
X-WR-CALDESC:Events for Simon Hudson
REFRESH-INTERVAL;VALUE=DURATION:PT1H
X-Robots-Tag:noindex
X-PUBLISHED-TTL:PT1H
BEGIN:VTIMEZONE
TZID:Asia/Tokyo
BEGIN:STANDARD
TZOFFSETFROM:+0900
TZOFFSETTO:+0900
TZNAME:JST
DTSTART:20240101T000000
END:STANDARD
END:VTIMEZONE
BEGIN:VEVENT
DTSTART;TZID=Asia/Tokyo:20250720T120000
DTEND;TZID=Asia/Tokyo:20250720T220000
DTSTAMP:20260426T015718
CREATED:20250411T215536Z
LAST-MODIFIED:20250511T223447Z
UID:4815-1753012800-1753048800@simonhudson.com.au
SUMMARY:Live at Music Map Festival\, Tokyo\, Japan
DESCRIPTION:So honoured to be playing at Music Map Festival\, Tokyo! Thanks to milliampear. \nMore about Simon Hudson\n“Through his music\, this creative Australian mind ignites a fresh and rejuvenating roots formula\, tapping into the sounds and styles of Brazil\, West Africa\, India\, and many more.” – Aldora Britain Records \nSimon Hudson is a singer-songwriter whose highly original music weaves a captivating blend of world\, roots and folk\, with influences including Carlinhos Brown\, The Cat Empire\, Jose Gonzalez\, Neil Finn\, and Paul Simon. Based in Melbourne\, Australia\, he’s toured throughout Europe\, Latin America and Australia. \nHis new single This Race launches globally (Jun 2024) on label Songs & Whispers (Germany)\, distributed by Broken Silence (Germany) and published by Sentric Music (UK). This Race suggest we are all caught up in a race – that we don’t always know that we are in. The race for fame and fortune\, to impress those around us. We may not be conscious of it\, but it drives our decisions. Stepping outside allows us focus on more important things. \nPrevious releases include album Aguas Profundas (Deep Waters) (2023)\, genre-hopping EP Islands (2020)\, crowd-funded album Earthman (Aug 2016)\, and debut EP Time And Space (2012)\, a remarkable showcase of skilled songwriting\, addictive roots rhythms and honest lyricism. His five international tours from 2014-2023 include Europe\, Cuba & Brazil. \n“Hudson’s songwriter talent is endless and his songs are poppy\, catchy\, melodic and straight to the point!” – Keys and Chords\, Netherlands
URL:https://simonhudson.com.au/shows/live-at-music-map-festival-tokyo/
LOCATION:Yahiro District Plaza\, Azumanosato\, 4 Chome-35-17 Yahiro\, Sumida City\, Tokyo\, 131-0041\, Japan
CATEGORIES:Festival,Japan Tour 2025,On tour,Solo show
ATTACH;FMTTYPE=image/jpeg:https://simonhudson.com.au/wp-content/uploads/2025/04/フライヤー-preview_page-0001.jpg
END:VEVENT
BEGIN:VEVENT
DTSTART;TZID=Asia/Tokyo:20250723T200000
DTEND;TZID=Asia/Tokyo:20250723T220000
DTSTAMP:20260426T015718
CREATED:20250602T201155Z
LAST-MODIFIED:20250606T202547Z
UID:4864-1753300800-1753308000@simonhudson.com.au
SUMMARY:Live at Harmony Grill\, Osaka\, Japan
DESCRIPTION:Very happy to be playing at Harmony Grill\, Osaka\, Japan! For this show I’ll be playing a selection of originals and covers that make me think of travel\, touring and home! Hope to see you there. \nMore about Simon Hudson\n“Through his music\, this creative Australian mind ignites a fresh and rejuvenating roots formula\, tapping into the sounds and styles of Brazil\, West Africa\, India\, and many more.” – Aldora Britain Records \nSimon Hudson is a singer-songwriter whose highly original music weaves a captivating blend of world\, roots and folk\, with influences including Carlinhos Brown\, The Cat Empire\, Jose Gonzalez\, Neil Finn\, and Paul Simon. Based in Melbourne\, Australia\, he’s toured throughout Europe\, Latin America and Australia. \nHis new single This Race launches globally (Jun 2024) on label Songs & Whispers (Germany)\, distributed by Broken Silence (Germany) and published by Sentric Music (UK). This Race suggest we are all caught up in a race – that we don’t always know that we are in. We may not be conscious of it\, but it drives our decisions. \nPrevious releases include album Aguas Profundas (Deep Waters) (2023)\, genre-hopping EP Islands (2020)\, crowd-funded album Earthman (Aug 2016)\, and debut EP Time And Space (2012)\, a remarkable showcase of skilled songwriting\, addictive roots rhythms and honest lyricism. His five international tours from 2014-2023 include Europe\, Cuba & Brazil. \n“Hudson’s songwriter talent is endless and his songs are poppy\, catchy\, melodic and straight to the point!” – Keys and Chords\, Netherlands
URL:https://simonhudson.com.au/shows/live-at-harmony-grill-osaka-japan/
LOCATION:Harmony Grill\, Osaka Prefecture\, Osaka\, Rebanga 難波南AP\, Japan
CATEGORIES:Japan Tour 2025,On tour,Solo show
ATTACH;FMTTYPE=image/jpeg:https://simonhudson.com.au/wp-content/uploads/2024/08/Web-05-PinkShirtDreaming_by_Jose_Pincheira-scaled.jpg
END:VEVENT
BEGIN:VEVENT
DTSTART;TZID=Asia/Tokyo:20250724T123000
DTEND;TZID=Asia/Tokyo:20250724T130000
DTSTAMP:20260426T015718
CREATED:20250602T202030Z
LAST-MODIFIED:20250606T210717Z
UID:4868-1753360200-1753362000@simonhudson.com.au
SUMMARY:Live at World Expo 2025 Osaka - Australia Pavilion - show 1
DESCRIPTION:Very happy to be playing at the Australia Pavilion at World Expo 2025 Osaka! It makes me very proud to be representing my country at this huge international event\, and it’s sure to be epic on their lovely stage. I’ve got two shows\, hope to see you there! \nShow 1: 12.30pm 1:00 pm \nShow 2: 4:00 pm 4:30 pm \nMore about Simon Hudson\n“Through his music\, this creative Australian mind ignites a fresh and rejuvenating roots formula\, tapping into the sounds and styles of Brazil\, West Africa\, India\, and many more.” – Aldora Britain Records \nSimon Hudson is a singer-songwriter whose highly original music weaves a captivating blend of world\, roots and folk\, with influences including Carlinhos Brown\, The Cat Empire\, Jose Gonzalez\, Neil Finn\, and Paul Simon. Based in Melbourne\, Australia\, he’s toured throughout Europe\, Latin America and Australia. \nHis new single This Race launches globally (Jun 2024) on label Songs & Whispers (Germany)\, distributed by Broken Silence (Germany) and published by Sentric Music (UK). This Race suggest we are all caught up in a race – that we don’t always know that we are in. We may not be conscious of it\, but it drives our decisions. \nPrevious releases include album Aguas Profundas (Deep Waters) (2023)\, genre-hopping EP Islands (2020)\, crowd-funded album Earthman (Aug 2016)\, and debut EP Time And Space (2012)\, a remarkable showcase of skilled songwriting\, addictive roots rhythms and honest lyricism. His five international tours from 2014-2023 include Europe\, Cuba & Brazil. \n“Hudson’s songwriter talent is endless and his songs are poppy\, catchy\, melodic and straight to the point!” – Keys and Chords\, Netherlands
URL:https://simonhudson.com.au/shows/live-at-world-expo-2025-osaka-australia-pavilion-show-1/
LOCATION:World Expo 2025 Osaka Australia Pavilion\, Osaka\, Japan
CATEGORIES:Expo,Japan Tour 2025,On tour,Solo show
ATTACH;FMTTYPE=image/jpeg:https://simonhudson.com.au/wp-content/uploads/2024/08/Web-05-PinkShirtDreaming_by_Jose_Pincheira-scaled.jpg
END:VEVENT
BEGIN:VEVENT
DTSTART;TZID=Asia/Tokyo:20250724T140000
DTEND;TZID=Asia/Tokyo:20250724T143000
DTSTAMP:20260426T015718
CREATED:20240904T203435Z
LAST-MODIFIED:20250602T202429Z
UID:4672-1753365600-1753367400@simonhudson.com.au
SUMMARY:Live at World Expo 2025 Osaka - Team Expo Stage\, Future Life Village
DESCRIPTION:Beyond excited to be playing at World Expo 2025! This is a once-in a lifetime opportunity to showcase my music and spread the love on an international stage! Looking forward to it \nMore about Simon Hudson\n“Through his music\, this creative Australian mind ignites a fresh and rejuvenating roots formula\, tapping into the sounds and styles of Brazil\, West Africa\, India\, and many more.” – Aldora Britain Records \nSimon Hudson is a singer-songwriter whose highly original music weaves a captivating blend of world\, roots and folk\, with influences including Carlinhos Brown\, The Cat Empire\, Jose Gonzalez\, Neil Finn\, and Paul Simon. Based in Melbourne\, Australia\, he’s toured throughout Europe\, Latin America and Australia. \nHis new single This Race launches globally (Jun 2024) on label Songs & Whispers (Germany)\, distributed by Broken Silence (Germany) and published by Sentric Music (UK). This Race suggest we are all caught up in a race – that we don’t always know that we are in. The race for fame and fortune\, to impress those around us. We may not be conscious of it\, but it drives our decisions. Stepping outside allows us focus on more important things. \nPrevious releases include album Aguas Profundas (Deep Waters) (2023)\, genre-hopping EP Islands (2020)\, crowd-funded album Earthman (Aug 2016)\, and debut EP Time And Space (2012)\, a remarkable showcase of skilled songwriting\, addictive roots rhythms and honest lyricism. His five international tours from 2014-2023 include Europe\, Cuba & Brazil. \n“Melbourne has long had a reputation for worldly art\, culture\, and heritage\, emerging from the city’s underbelly and overflowing onto international stages. Contemporary singer-songwriter Simon Hudson is a glorious underground testament to this.” – Aldora Britain Records
URL:https://simonhudson.com.au/shows/live-at-world-expo-2025-osaka-team-expo-stage-future-life-village/
LOCATION:TEAM EXPO Pavillion\, Osaka\, Japan
CATEGORIES:Expo,Japan Tour 2025,On tour,Solo show
ATTACH;FMTTYPE=image/jpeg:https://simonhudson.com.au/wp-content/uploads/2024/09/team.kmc_-scaled.jpg
END:VEVENT
BEGIN:VEVENT
DTSTART;TZID=Asia/Tokyo:20250724T160000
DTEND;TZID=Asia/Tokyo:20250724T163000
DTSTAMP:20260426T015718
CREATED:20250602T202150Z
LAST-MODIFIED:20250602T202150Z
UID:4873-1753372800-1753374600@simonhudson.com.au
SUMMARY:Live at World Expo 2025 Osaka - Australia Pavilion - show 2
DESCRIPTION:Very happy to be playing at the Australia Pavilion at World Expo 2025 Osaka! It makes me very proud to be representing my country at this huge international event\, and it’s sure to be epic on their lovely stage. I’ve got two shows\, hope to see you there! \nShow 1: 12.30pm 1:00 pm \nShow 2: 4:00 pm 4:30 pm \nMore about Simon Hudson\n“Through his music\, this creative Australian mind ignites a fresh and rejuvenating roots formula\, tapping into the sounds and styles of Brazil\, West Africa\, India\, and many more.” – Aldora Britain Records \nSimon Hudson is a singer-songwriter whose highly original music weaves a captivating blend of world\, roots and folk\, with influences including Carlinhos Brown\, The Cat Empire\, Jose Gonzalez\, Neil Finn\, and Paul Simon. Based in Melbourne\, Australia\, he’s toured throughout Europe\, Latin America and Australia. \nHis new single This Race launches globally (Jun 2024) on label Songs & Whispers (Germany)\, distributed by Broken Silence (Germany) and published by Sentric Music (UK). This Race suggest we are all caught up in a race – that we don’t always know that we are in. The race for fame and fortune\, to impress those around us. We may not be conscious of it\, but it drives our decisions. Stepping outside allows us focus on more important things. \nPrevious releases include album Aguas Profundas (Deep Waters) (2023)\, genre-hopping EP Islands (2020)\, crowd-funded album Earthman (Aug 2016)\, and debut EP Time And Space (2012)\, a remarkable showcase of skilled songwriting\, addictive roots rhythms and honest lyricism. His five international tours from 2014-2023 include Europe\, Cuba & Brazil. \n“Hudson’s songwriter talent is endless and his songs are poppy\, catchy\, melodic and straight to the point!” – Keys and Chords\, Netherlands
URL:https://simonhudson.com.au/shows/live-at-world-expo-2025-osaka-australia-pavilion-show-2/
LOCATION:World Expo 2025 Osaka Australia Pavilion\, Osaka\, Japan
CATEGORIES:Expo,Japan Tour 2025,On tour,Solo show
ATTACH;FMTTYPE=image/jpeg:https://simonhudson.com.au/wp-content/uploads/2024/08/Web-05-PinkShirtDreaming_by_Jose_Pincheira-scaled.jpg
END:VEVENT
BEGIN:VEVENT
DTSTART;TZID=Asia/Tokyo:20250725T190000
DTEND;TZID=Asia/Tokyo:20250725T210000
DTSTAMP:20260426T015718
CREATED:20250413T061255Z
LAST-MODIFIED:20250606T210951Z
UID:4827-1753470000-1753477200@simonhudson.com.au
SUMMARY:Live at Chicken Shack\, Kobe\, Japan with Chiyo
DESCRIPTION:Very happy to be playing with Chiyo at Chicken Shack\, Kobe\, Japan! \nDoors 6:30 pm \nMusic starts 7:00 pm \nMusic finishes 9:00 pm \nMore about Simon Hudson\n“Through his music\, this creative Australian mind ignites a fresh and rejuvenating roots formula\, tapping into the sounds and styles of Brazil\, West Africa\, India\, and many more.” – Aldora Britain Records \nSimon Hudson is a singer-songwriter whose highly original music weaves a captivating blend of world\, roots and folk\, with influences including Carlinhos Brown\, The Cat Empire\, Jose Gonzalez\, Neil Finn\, and Paul Simon. Based in Melbourne\, Australia\, he’s toured throughout Europe\, Latin America and Australia. \nHis new single This Race launches globally (Jun 2024) on label Songs & Whispers (Germany)\, distributed by Broken Silence (Germany) and published by Sentric Music (UK). This Race suggest we are all caught up in a race – that we don’t always know that we are in. We may not be conscious of it\, but it drives our decisions. \nPrevious releases include album Aguas Profundas (Deep Waters) (2023)\, genre-hopping EP Islands (2020)\, crowd-funded album Earthman (Aug 2016)\, and debut EP Time And Space (2012)\, a remarkable showcase of skilled songwriting\, addictive roots rhythms and honest lyricism. His five international tours from 2014-2023 include Europe\, Cuba & Brazil. \n“Hudson’s songwriter talent is endless and his songs are poppy\, catchy\, melodic and straight to the point!” – Keys and Chords\, Netherlands
URL:https://simonhudson.com.au/shows/live-at-chicken-shack-kobe-japan-with-chiyo/
LOCATION:Chicken Shack\, MK Building 4F\, 2-15-12 Shimoyamatedori\, Chuo-ku\, Kobe\, 650-0011\, Japan
CATEGORIES:Japan Tour 2025,On tour,Solo show
ATTACH;FMTTYPE=image/jpeg:https://simonhudson.com.au/wp-content/uploads/2024/08/Web-05-PinkShirtDreaming_by_Jose_Pincheira-scaled.jpg
END:VEVENT
END:VCALENDAR