BEGIN:VCALENDAR
VERSION:2.0
PRODID:-//Simon Hudson - ECPv6.15.20//NONSGML v1.0//EN
CALSCALE:GREGORIAN
METHOD:PUBLISH
X-ORIGINAL-URL:https://simonhudson.com.au
X-WR-CALDESC:Events for Simon Hudson
REFRESH-INTERVAL;VALUE=DURATION:PT1H
X-Robots-Tag:noindex
X-PUBLISHED-TTL:PT1H
BEGIN:VTIMEZONE
TZID:Australia/Melbourne
BEGIN:STANDARD
TZOFFSETFROM:+1100
TZOFFSETTO:+1000
TZNAME:AEST
DTSTART:20240406T160000
END:STANDARD
BEGIN:DAYLIGHT
TZOFFSETFROM:+1000
TZOFFSETTO:+1100
TZNAME:AEDT
DTSTART:20241005T160000
END:DAYLIGHT
BEGIN:STANDARD
TZOFFSETFROM:+1100
TZOFFSETTO:+1000
TZNAME:AEST
DTSTART:20250405T160000
END:STANDARD
BEGIN:DAYLIGHT
TZOFFSETFROM:+1000
TZOFFSETTO:+1100
TZNAME:AEDT
DTSTART:20251004T160000
END:DAYLIGHT
BEGIN:STANDARD
TZOFFSETFROM:+1100
TZOFFSETTO:+1000
TZNAME:AEST
DTSTART:20260404T160000
END:STANDARD
BEGIN:DAYLIGHT
TZOFFSETFROM:+1000
TZOFFSETTO:+1100
TZNAME:AEDT
DTSTART:20261003T160000
END:DAYLIGHT
END:VTIMEZONE
BEGIN:VEVENT
DTSTART;TZID=Australia/Melbourne:20251101T150000
DTEND;TZID=Australia/Melbourne:20251101T160000
DTSTAMP:20260426T002453
CREATED:20250805T105526Z
LAST-MODIFIED:20251030T091246Z
UID:4898-1762009200-1762012800@simonhudson.com.au
SUMMARY:Live at Natimuk Frinj Festival - Mexican Ping Pom - show 1
DESCRIPTION:More about Simon Hudson\n“Through his music\, this creative Australian mind ignites a fresh and rejuvenating roots formula\, tapping into the sounds and styles of Brazil\, West Africa\, India\, and many more.” – Aldora Britain Records \nSimon Hudson is a singer-songwriter whose highly original music weaves a captivating blend of world\, roots and folk\, with influences including Carlinhos Brown\, The Cat Empire\, Jose Gonzalez\, Neil Finn\, and Paul Simon. Based in Melbourne\, Australia\, he’s toured throughout Europe\, Latin America and Australia. \nHis new single This Race launches globally (Jun 2024) on label Songs & Whispers (Germany)\, distributed by Broken Silence (Germany) and published by Sentric Music (UK). This Race suggest we are all caught up in a race – that we don’t always know that we are in. The race for fame and fortune\, to impress those around us. We may not be conscious of it\, but it drives our decisions. Stepping outside allows us focus on more important things. \nPrevious releases include album Aguas Profundas (Deep Waters) (2023)\, genre-hopping EP Islands (2020)\, crowd-funded album Earthman (Aug 2016)\, and debut EP Time And Space (2012)\, a remarkable showcase of skilled songwriting\, addictive roots rhythms and honest lyricism. His five international tours from 2014-2023 include Europe\, Cuba & Brazil. \n“Hudson’s songwriter talent is endless and his songs are poppy\, catchy\, melodic and straight to the point!” – Keys and Chords\, Netherlands
URL:https://simonhudson.com.au/shows/live-at-natimuk-frinj-festival-mexican-ping-pom-show-1/
LOCATION:Natimuk Frinj Festival\, Natimuk\, Vic\, Australia
CATEGORIES:Festival,On tour,Outdoor show,Solo show
END:VEVENT
BEGIN:VEVENT
DTSTART;TZID=Australia/Melbourne:20251101T170000
DTEND;TZID=Australia/Melbourne:20251101T180000
DTSTAMP:20260426T002453
CREATED:20250805T105642Z
LAST-MODIFIED:20251030T091315Z
UID:4903-1762016400-1762020000@simonhudson.com.au
SUMMARY:Live at Natimuk Frinj Festival - Mexican Ping Pom - show 2
DESCRIPTION:More about Simon Hudson\n“Through his music\, this creative Australian mind ignites a fresh and rejuvenating roots formula\, tapping into the sounds and styles of Brazil\, West Africa\, India\, and many more.” – Aldora Britain Records \nSimon Hudson is a singer-songwriter whose highly original music weaves a captivating blend of world\, roots and folk\, with influences including Carlinhos Brown\, The Cat Empire\, Jose Gonzalez\, Neil Finn\, and Paul Simon. Based in Melbourne\, Australia\, he’s toured throughout Europe\, Latin America and Australia. \nHis new single This Race launches globally (Jun 2024) on label Songs & Whispers (Germany)\, distributed by Broken Silence (Germany) and published by Sentric Music (UK). This Race suggest we are all caught up in a race – that we don’t always know that we are in. The race for fame and fortune\, to impress those around us. We may not be conscious of it\, but it drives our decisions. Stepping outside allows us focus on more important things. \nPrevious releases include album Aguas Profundas (Deep Waters) (2023)\, genre-hopping EP Islands (2020)\, crowd-funded album Earthman (Aug 2016)\, and debut EP Time And Space (2012)\, a remarkable showcase of skilled songwriting\, addictive roots rhythms and honest lyricism. His five international tours from 2014-2023 include Europe\, Cuba & Brazil. \n“Hudson’s songwriter talent is endless and his songs are poppy\, catchy\, melodic and straight to the point!” – Keys and Chords\, Netherlands
URL:https://simonhudson.com.au/shows/live-at-natimuk-frinj-festival-mexican-ping-pom-show-2/
LOCATION:Natimuk Frinj Festival\, Natimuk\, Vic\, Australia
CATEGORIES:Festival,On tour,Outdoor show,Solo show
END:VEVENT
BEGIN:VEVENT
DTSTART;TZID=Australia/Melbourne:20251102T120000
DTEND;TZID=Australia/Melbourne:20251102T130000
DTSTAMP:20260426T002453
CREATED:20250913T055000Z
LAST-MODIFIED:20250913T055000Z
UID:4941-1762084800-1762088400@simonhudson.com.au
SUMMARY:Live at Natimuk Frinj Festival - Double Happiness
DESCRIPTION:More about Simon Hudson\n“Through his music\, this creative Australian mind ignites a fresh and rejuvenating roots formula\, tapping into the sounds and styles of Brazil\, West Africa\, India\, and many more.” – Aldora Britain Records \nSimon Hudson is a singer-songwriter whose highly original music weaves a captivating blend of world\, roots and folk\, with influences including Carlinhos Brown\, The Cat Empire\, Jose Gonzalez\, Neil Finn\, and Paul Simon. Based in Melbourne\, Australia\, he’s toured throughout Europe\, Latin America and Australia. \nHis new single This Race launches globally (Jun 2024) on label Songs & Whispers (Germany)\, distributed by Broken Silence (Germany) and published by Sentric Music (UK). This Race suggest we are all caught up in a race – that we don’t always know that we are in. The race for fame and fortune\, to impress those around us. We may not be conscious of it\, but it drives our decisions. Stepping outside allows us focus on more important things. \nPrevious releases include album Aguas Profundas (Deep Waters) (2023)\, genre-hopping EP Islands (2020)\, crowd-funded album Earthman (Aug 2016)\, and debut EP Time And Space (2012)\, a remarkable showcase of skilled songwriting\, addictive roots rhythms and honest lyricism. His five international tours from 2014-2023 include Europe\, Cuba & Brazil. \n“Hudson’s songwriter talent is endless and his songs are poppy\, catchy\, melodic and straight to the point!” – Keys and Chords\, Netherlands
URL:https://simonhudson.com.au/shows/live-at-natimuk-frinj-festival-double-happiness/
LOCATION:Natimuk Frinj Festival\, Natimuk\, Vic\, Australia
CATEGORIES:Festival,On tour,Outdoor show,Solo show
END:VEVENT
END:VCALENDAR