BEGIN:VCALENDAR
VERSION:2.0
PRODID:-//Simon Hudson - ECPv6.15.20//NONSGML v1.0//EN
CALSCALE:GREGORIAN
METHOD:PUBLISH
X-WR-CALNAME:Simon Hudson
X-ORIGINAL-URL:https://simonhudson.com.au
X-WR-CALDESC:Events for Simon Hudson
REFRESH-INTERVAL;VALUE=DURATION:PT1H
X-Robots-Tag:noindex
X-PUBLISHED-TTL:PT1H
BEGIN:VTIMEZONE
TZID:Asia/Tokyo
BEGIN:STANDARD
TZOFFSETFROM:+0900
TZOFFSETTO:+0900
TZNAME:JST
DTSTART:20240101T000000
END:STANDARD
END:VTIMEZONE
BEGIN:VEVENT
DTSTART;TZID=Asia/Tokyo:20250720T120000
DTEND;TZID=Asia/Tokyo:20250720T220000
DTSTAMP:20260426T071559
CREATED:20250411T215536Z
LAST-MODIFIED:20250511T223447Z
UID:4815-1753012800-1753048800@simonhudson.com.au
SUMMARY:Live at Music Map Festival\, Tokyo\, Japan
DESCRIPTION:So honoured to be playing at Music Map Festival\, Tokyo! Thanks to milliampear. \nMore about Simon Hudson\n“Through his music\, this creative Australian mind ignites a fresh and rejuvenating roots formula\, tapping into the sounds and styles of Brazil\, West Africa\, India\, and many more.” – Aldora Britain Records \nSimon Hudson is a singer-songwriter whose highly original music weaves a captivating blend of world\, roots and folk\, with influences including Carlinhos Brown\, The Cat Empire\, Jose Gonzalez\, Neil Finn\, and Paul Simon. Based in Melbourne\, Australia\, he’s toured throughout Europe\, Latin America and Australia. \nHis new single This Race launches globally (Jun 2024) on label Songs & Whispers (Germany)\, distributed by Broken Silence (Germany) and published by Sentric Music (UK). This Race suggest we are all caught up in a race – that we don’t always know that we are in. The race for fame and fortune\, to impress those around us. We may not be conscious of it\, but it drives our decisions. Stepping outside allows us focus on more important things. \nPrevious releases include album Aguas Profundas (Deep Waters) (2023)\, genre-hopping EP Islands (2020)\, crowd-funded album Earthman (Aug 2016)\, and debut EP Time And Space (2012)\, a remarkable showcase of skilled songwriting\, addictive roots rhythms and honest lyricism. His five international tours from 2014-2023 include Europe\, Cuba & Brazil. \n“Hudson’s songwriter talent is endless and his songs are poppy\, catchy\, melodic and straight to the point!” – Keys and Chords\, Netherlands
URL:https://simonhudson.com.au/shows/live-at-music-map-festival-tokyo/
LOCATION:Yahiro District Plaza\, Azumanosato\, 4 Chome-35-17 Yahiro\, Sumida City\, Tokyo\, 131-0041\, Japan
CATEGORIES:Festival,Japan Tour 2025,On tour,Solo show
ATTACH;FMTTYPE=image/jpeg:https://simonhudson.com.au/wp-content/uploads/2025/04/フライヤー-preview_page-0001.jpg
END:VEVENT
END:VCALENDAR